Package: scMerge Version: 1.27.0 Command: /home/biocbuild/bbs-3.23-bioc/R/bin/R CMD check --install=check:scMerge.install-out.txt --library=/home/biocbuild/bbs-3.23-bioc/R/site-library --timings scMerge_1.27.0.tar.gz StartedAt: 2025-11-07 03:26:29 -0500 (Fri, 07 Nov 2025) EndedAt: 2025-11-07 03:35:59 -0500 (Fri, 07 Nov 2025) EllapsedTime: 570.5 seconds RetCode: 0 Status: OK CheckDir: scMerge.Rcheck Warnings: 0