Package: scMerge Version: 1.27.0 Command: /home/biocbuild/bbs-3.23-bioc/R/bin/R CMD build --keep-empty-dirs --no-resave-data scMerge StartedAt: 2025-11-05 19:54:50 -0500 (Wed, 05 Nov 2025) EndedAt: 2025-11-05 19:56:49 -0500 (Wed, 05 Nov 2025) EllapsedTime: 119.1 seconds RetCode: 0 Status: OK PackageFile: scMerge_1.27.0.tar.gz PackageFileSize: 2.681 MiB