Package: scMET Version: 1.13.0 Command: /home/biocbuild/bbs-3.23-bioc/R/bin/R CMD INSTALL scMET StartedAt: 2025-11-20 15:33:22 -0500 (Thu, 20 Nov 2025) EndedAt: 2025-11-20 15:35:29 -0500 (Thu, 20 Nov 2025) EllapsedTime: 127.1 seconds RetCode: 0 Status: OK