Package: scMET Version: 1.11.0 Command: /Library/Frameworks/R.framework/Resources/bin/R CMD INSTALL scMET StartedAt: 2025-10-17 15:32:17 -0400 (Fri, 17 Oct 2025) EndedAt: 2025-10-17 15:34:25 -0400 (Fri, 17 Oct 2025) EllapsedTime: 128.2 seconds RetCode: 0 Status: OK