Package: scMET Version: 1.11.0 Command: rm -rf scMET.buildbin-libdir && mkdir scMET.buildbin-libdir && /Users/biocbuild/BBS/utils/build-universal.sh scMET_1.11.0.tar.gz /Library/Frameworks/R.framework/Resources/bin/R scMET.buildbin-libdir StartedAt: 2025-10-17 04:13:29 -0400 (Fri, 17 Oct 2025) EndedAt: 2025-10-17 04:15:56 -0400 (Fri, 17 Oct 2025) EllapsedTime: 147.2 seconds RetCode: 0 Status: OK PackageFile: scMET_1.11.0.tgz PackageFileSize: 4.157 MiB