Package: scMET Version: 1.11.0 Command: /Library/Frameworks/R.framework/Resources/bin/R CMD INSTALL scMET StartedAt: 2025-09-30 15:18:56 -0400 (Tue, 30 Sep 2025) EndedAt: 2025-09-30 15:19:28 -0400 (Tue, 30 Sep 2025) EllapsedTime: 32.0 seconds RetCode: 0 Status: OK