Package: scMET Version: 1.13.0 Maintainer: Andreas C. Kapourani MaintainerEmail: kapouranis.andreas at gmail.com git_url: https://git.bioconductor.org/packages/scMET git_branch: devel git_last_commit: 5af0e5e git_last_commit_date: 2025-10-29 11:17:57 -0400 (Wed, 29 Oct 2025)