Package: scLANE Version: 1.1.0 Command: /home/biocbuild/bbs-3.23-bioc/R/bin/R CMD check --install=check:scLANE.install-out.txt --library=/home/biocbuild/bbs-3.23-bioc/R/site-library --timings scLANE_1.1.0.tar.gz StartedAt: 2025-11-01 03:17:29 -0400 (Sat, 01 Nov 2025) EndedAt: 2025-11-01 03:27:17 -0400 (Sat, 01 Nov 2025) EllapsedTime: 588.6 seconds RetCode: 0 Status: OK CheckDir: scLANE.Rcheck Warnings: 0