Package: scLANE Version: 1.1.0 Command: /home/biocbuild/bbs-3.23-bioc/R/bin/R CMD build --keep-empty-dirs --no-resave-data scLANE StartedAt: 2025-10-31 20:01:36 -0400 (Fri, 31 Oct 2025) EndedAt: 2025-10-31 20:03:13 -0400 (Fri, 31 Oct 2025) EllapsedTime: 97.1 seconds RetCode: 0 Status: OK PackageFile: scLANE_1.1.0.tar.gz PackageFileSize: 3.965 MiB