Package: scLANE Version: 1.1.0 Command: /Library/Frameworks/R.framework/Resources/bin/R CMD INSTALL scLANE StartedAt: 2025-11-20 15:16:26 -0500 (Thu, 20 Nov 2025) EndedAt: 2025-11-20 15:17:14 -0500 (Thu, 20 Nov 2025) EllapsedTime: 47.8 seconds RetCode: 0 Status: OK