Package: scLANE Version: 1.1.0 Command: /Library/Frameworks/R.framework/Resources/bin/R CMD build --keep-empty-dirs --no-resave-data scLANE StartedAt: 2025-11-20 18:36:06 -0500 (Thu, 20 Nov 2025) EndedAt: 2025-11-20 18:38:05 -0500 (Thu, 20 Nov 2025) EllapsedTime: 118.9 seconds RetCode: 0 Status: OK PackageFile: scLANE_1.1.0.tar.gz PackageFileSize: 4.647 MiB