Package: scLANE Version: 1.1.0 Command: /Library/Frameworks/R.framework/Resources/bin/R CMD INSTALL scLANE StartedAt: 2025-11-20 15:05:31 -0500 (Thu, 20 Nov 2025) EndedAt: 2025-11-20 15:05:44 -0500 (Thu, 20 Nov 2025) EllapsedTime: 13.4 seconds RetCode: 0 Status: OK