Package: scLANE Version: 1.1.0 Command: /Library/Frameworks/R.framework/Resources/bin/R CMD check --install=check:scLANE.install-out.txt --library=/Library/Frameworks/R.framework/Resources/library --no-vignettes --timings scLANE_1.1.0.tar.gz StartedAt: 2025-11-21 22:18:33 -0500 (Fri, 21 Nov 2025) EndedAt: 2025-11-21 22:22:35 -0500 (Fri, 21 Nov 2025) EllapsedTime: 241.8 seconds RetCode: 0 Status: OK CheckDir: scLANE.Rcheck Warnings: 0