Package: scLANE Version: 1.1.0 Command: /Library/Frameworks/R.framework/Resources/bin/R CMD build --keep-empty-dirs --no-resave-data scLANE StartedAt: 2025-11-20 17:36:19 -0500 (Thu, 20 Nov 2025) EndedAt: 2025-11-20 17:36:57 -0500 (Thu, 20 Nov 2025) EllapsedTime: 38.4 seconds RetCode: 0 Status: OK PackageFile: scLANE_1.1.0.tar.gz PackageFileSize: 4.724 MiB