Package: scLANE Version: 1.1.0 Maintainer: Jack R. Leary MaintainerEmail: j.leary at ufl.edu git_url: https://git.bioconductor.org/packages/scLANE git_branch: devel git_last_commit: 52d4406 git_last_commit_date: 2025-10-29 11:38:52 -0400 (Wed, 29 Oct 2025)