Package: scHiCcompare Version: 1.1.0 Command: chmod a+r scHiCcompare -R && F:\biocbuild\bbs-3.22-bioc\R\bin\R.exe CMD build --keep-empty-dirs --no-resave-data scHiCcompare StartedAt: 2025-08-14 23:03:51 -0400 (Thu, 14 Aug 2025) EndedAt: 2025-08-14 23:05:51 -0400 (Thu, 14 Aug 2025) EllapsedTime: 119.7 seconds RetCode: 0 Status: OK PackageFile: scHiCcompare_1.1.0.tar.gz PackageFileSize: 1.087 MiB