Package: scHiCcompare Version: 1.3.0 Command: /home/biocbuild/bbs-3.23-bioc/R/bin/R CMD INSTALL scHiCcompare StartedAt: 2025-11-07 15:32:56 -0500 (Fri, 07 Nov 2025) EndedAt: 2025-11-07 15:33:24 -0500 (Fri, 07 Nov 2025) EllapsedTime: 28.1 seconds RetCode: 0 Status: OK