Package: scHiCcompare Version: 1.3.0 Command: /home/biocbuild/bbs-3.23-bioc/R/bin/R CMD check --install=check:scHiCcompare.install-out.txt --library=/home/biocbuild/bbs-3.23-bioc/R/site-library --timings scHiCcompare_1.3.0.tar.gz StartedAt: 2025-11-08 03:37:23 -0500 (Sat, 08 Nov 2025) EndedAt: 2025-11-08 03:41:49 -0500 (Sat, 08 Nov 2025) EllapsedTime: 265.3 seconds RetCode: 0 Status: WARNINGS CheckDir: scHiCcompare.Rcheck Warnings: 1