Package: scHiCcompare Version: 1.3.0 Command: /home/biocbuild/bbs-3.23-bioc/R/bin/R CMD build --keep-empty-dirs --no-resave-data scHiCcompare StartedAt: 2025-11-07 19:49:18 -0500 (Fri, 07 Nov 2025) EndedAt: 2025-11-07 19:50:14 -0500 (Fri, 07 Nov 2025) EllapsedTime: 56.0 seconds RetCode: 0 Status: OK PackageFile: scHiCcompare_1.3.0.tar.gz PackageFileSize: 1.272 MiB