Package: scHOT Version: 1.21.0 Command: /home/biocbuild/R/R/bin/R CMD INSTALL scHOT StartedAt: 2025-10-06 20:35:55 -0000 (Mon, 06 Oct 2025) EndedAt: 2025-10-06 20:36:33 -0000 (Mon, 06 Oct 2025) EllapsedTime: 38.1 seconds RetCode: 0 Status: OK