Package: scHOT Version: 1.21.0 Command: /home/biocbuild/R/R/bin/R CMD build --keep-empty-dirs --no-resave-data scHOT StartedAt: 2025-10-07 02:42:45 -0000 (Tue, 07 Oct 2025) EndedAt: 2025-10-07 02:45:49 -0000 (Tue, 07 Oct 2025) EllapsedTime: 183.1 seconds RetCode: 0 Status: OK PackageFile: scHOT_1.21.0.tar.gz PackageFileSize: 1.914 MiB