Package: scHOT Version: 1.23.0 Command: /home/biocbuild/bbs-3.23-bioc/R/bin/R CMD build --keep-empty-dirs --no-resave-data scHOT StartedAt: 2025-11-05 19:53:38 -0500 (Wed, 05 Nov 2025) EndedAt: 2025-11-05 19:55:41 -0500 (Wed, 05 Nov 2025) EllapsedTime: 123.1 seconds RetCode: 0 Status: OK PackageFile: scHOT_1.23.0.tar.gz PackageFileSize: 2.136 MiB