Package: scGraphVerse Version: 0.99.19 Command: /home/biocbuild/R/R/bin/R CMD INSTALL scGraphVerse StartedAt: 2025-10-16 21:34:12 -0000 (Thu, 16 Oct 2025) EndedAt: 2025-10-16 21:34:53 -0000 (Thu, 16 Oct 2025) EllapsedTime: 40.8 seconds RetCode: 0 Status: OK