Package: scGraphVerse Version: 0.99.19 Command: /home/biocbuild/R/R/bin/R CMD build --keep-empty-dirs --no-resave-data scGraphVerse StartedAt: 2025-10-17 04:22:05 -0000 (Fri, 17 Oct 2025) EndedAt: 2025-10-17 04:30:47 -0000 (Fri, 17 Oct 2025) EllapsedTime: 521.3 seconds RetCode: 0 Status: OK PackageFile: scGraphVerse_0.99.19.tar.gz PackageFileSize: 2.998 MiB