Package: scGraphVerse Version: 1.1.0 Command: /home/biocbuild/bbs-3.23-bioc/R/bin/R CMD INSTALL scGraphVerse StartedAt: 2025-11-20 15:20:38 -0500 (Thu, 20 Nov 2025) EndedAt: 2025-11-20 15:21:07 -0500 (Thu, 20 Nov 2025) EllapsedTime: 28.8 seconds RetCode: 0 Status: OK