Package: scGraphVerse Version: 1.1.0 Command: /home/biocbuild/bbs-3.23-bioc/R/bin/R CMD check --install=check:scGraphVerse.install-out.txt --library=/home/biocbuild/bbs-3.23-bioc/R/site-library --timings scGraphVerse_1.1.0.tar.gz StartedAt: 2025-11-21 03:38:34 -0500 (Fri, 21 Nov 2025) EndedAt: 2025-11-21 04:00:09 -0500 (Fri, 21 Nov 2025) EllapsedTime: 1295.6 seconds RetCode: 0 Status: OK CheckDir: scGraphVerse.Rcheck Warnings: 0