Package: scGraphVerse Version: 0.99.20 Command: /Library/Frameworks/R.framework/Resources/bin/R CMD INSTALL scGraphVerse StartedAt: 2025-10-19 15:23:58 -0400 (Sun, 19 Oct 2025) EndedAt: 2025-10-19 15:24:41 -0400 (Sun, 19 Oct 2025) EllapsedTime: 42.7 seconds RetCode: 0 Status: OK