Package: scGraphVerse Version: 0.99.19 Command: /Library/Frameworks/R.framework/Resources/bin/R CMD build --keep-empty-dirs --no-resave-data scGraphVerse StartedAt: 2025-10-17 19:15:00 -0400 (Fri, 17 Oct 2025) EndedAt: 2025-10-17 19:24:57 -0400 (Fri, 17 Oct 2025) EllapsedTime: 596.7 seconds RetCode: 0 Status: OK PackageFile: scGraphVerse_0.99.19.tar.gz PackageFileSize: 3.636 MiB