Package: scGraphVerse Version: 0.99.19 Command: /Library/Frameworks/R.framework/Resources/bin/R CMD INSTALL scGraphVerse StartedAt: 2025-10-17 15:13:46 -0400 (Fri, 17 Oct 2025) EndedAt: 2025-10-17 15:13:58 -0400 (Fri, 17 Oct 2025) EllapsedTime: 11.9 seconds RetCode: 0 Status: OK