Package: scGraphVerse Version: 0.99.20 Command: /Library/Frameworks/R.framework/Resources/bin/R CMD check --install=check:scGraphVerse.install-out.txt --library=/Library/Frameworks/R.framework/Resources/library --no-vignettes --timings scGraphVerse_0.99.20.tar.gz StartedAt: 2025-10-21 21:54:32 -0400 (Tue, 21 Oct 2025) EndedAt: 2025-10-21 22:01:55 -0400 (Tue, 21 Oct 2025) EllapsedTime: 443.1 seconds RetCode: 0 Status: OK CheckDir: scGraphVerse.Rcheck Warnings: 0