Package: scGraphVerse Version: 0.99.19 Command: /Library/Frameworks/R.framework/Resources/bin/R CMD build --keep-empty-dirs --no-resave-data scGraphVerse StartedAt: 2025-10-17 17:40:28 -0400 (Fri, 17 Oct 2025) EndedAt: 2025-10-17 17:44:01 -0400 (Fri, 17 Oct 2025) EllapsedTime: 212.4 seconds RetCode: 0 Status: OK PackageFile: scGraphVerse_0.99.19.tar.gz PackageFileSize: 3.687 MiB