Package: scGraphVerse Version: 0.99.19 Command: rm -rf scGraphVerse.buildbin-libdir && mkdir scGraphVerse.buildbin-libdir && /Users/biocbuild/BBS/utils/build-universal.sh scGraphVerse_0.99.19.tar.gz /Library/Frameworks/R.framework/Resources/bin/R scGraphVerse.buildbin-libdir StartedAt: 2025-10-17 23:24:29 -0400 (Fri, 17 Oct 2025) EndedAt: 2025-10-17 23:24:44 -0400 (Fri, 17 Oct 2025) EllapsedTime: 14.3 seconds RetCode: 0 Status: OK PackageFile: scGraphVerse_0.99.19.tgz PackageFileSize: 3.964 MiB