Package: scGraphVerse Version: 0.99.19 Maintainer: Francesco Cecere MaintainerEmail: francesco.cecerengs at gmail.com git_url: https://git.bioconductor.org/packages/scGraphVerse git_branch: devel git_last_commit: ae96184 git_last_commit_date: 2025-10-15 07:22:42 -0400 (Wed, 15 Oct 2025)