Package: scGPS Version: 1.23.0 Command: /home/biocbuild/R/R/bin/R CMD INSTALL scGPS StartedAt: 2025-10-13 20:57:51 -0000 (Mon, 13 Oct 2025) EndedAt: 2025-10-13 20:59:09 -0000 (Mon, 13 Oct 2025) EllapsedTime: 78.2 seconds RetCode: 0 Status: OK