Package: scGPS Version: 1.23.0 Command: /home/biocbuild/R/R/bin/R CMD build --keep-empty-dirs --no-resave-data scGPS StartedAt: 2025-10-14 03:23:04 -0000 (Tue, 14 Oct 2025) EndedAt: 2025-10-14 03:24:55 -0000 (Tue, 14 Oct 2025) EllapsedTime: 111.1 seconds RetCode: 1 Status: ERROR PackageFile: None PackageFileSize: NA