Package: scGPS Version: 1.23.0 Command: rm -rf scGPS.buildbin-libdir && mkdir scGPS.buildbin-libdir && F:\biocbuild\bbs-3.22-bioc\R\bin\R.exe CMD INSTALL --build --library=scGPS.buildbin-libdir scGPS_1.23.0.tar.gz StartedAt: 2025-08-15 11:15:22 -0400 (Fri, 15 Aug 2025) EndedAt: 2025-08-15 11:16:39 -0400 (Fri, 15 Aug 2025) EllapsedTime: 76.7 seconds RetCode: 0 Status: OK PackageFile: scGPS_1.23.0.zip PackageFileSize: 2.931 MiB