Package: scGPS Version: 1.23.0 Command: /home/biocbuild/bbs-3.22-bioc/R/bin/R CMD check --install=check:scGPS.install-out.txt --library=/home/biocbuild/bbs-3.22-bioc/R/site-library --timings scGPS_1.23.0.tar.gz StartedAt: 2025-10-10 04:00:18 -0400 (Fri, 10 Oct 2025) EndedAt: 2025-10-10 04:12:42 -0400 (Fri, 10 Oct 2025) EllapsedTime: 743.7 seconds RetCode: 0 Status: OK CheckDir: scGPS.Rcheck Warnings: 0