Package: scGPS Version: 1.25.0 Command: /home/biocbuild/bbs-3.23-bioc/R/bin/R CMD INSTALL scGPS StartedAt: 2025-11-05 15:29:38 -0500 (Wed, 05 Nov 2025) EndedAt: 2025-11-05 15:30:33 -0500 (Wed, 05 Nov 2025) EllapsedTime: 55.1 seconds RetCode: 0 Status: OK