Package: scGPS Version: 1.25.0 Command: /home/biocbuild/bbs-3.23-bioc/R/bin/R CMD check --install=check:scGPS.install-out.txt --library=/home/biocbuild/bbs-3.23-bioc/R/site-library --timings scGPS_1.25.0.tar.gz StartedAt: 2025-11-15 03:44:59 -0500 (Sat, 15 Nov 2025) EndedAt: 2025-11-15 03:57:16 -0500 (Sat, 15 Nov 2025) EllapsedTime: 736.7 seconds RetCode: 0 Status: OK CheckDir: scGPS.Rcheck Warnings: 0