Package: scGPS Version: 1.23.0 Command: /Library/Frameworks/R.framework/Resources/bin/R CMD INSTALL scGPS StartedAt: 2025-10-15 15:23:46 -0400 (Wed, 15 Oct 2025) EndedAt: 2025-10-15 15:24:56 -0400 (Wed, 15 Oct 2025) EllapsedTime: 69.5 seconds RetCode: 0 Status: OK