Package: scGPS Version: 1.23.0 Command: /Library/Frameworks/R.framework/Resources/bin/R CMD build --keep-empty-dirs --no-resave-data scGPS StartedAt: 2025-10-14 19:10:30 -0400 (Tue, 14 Oct 2025) EndedAt: 2025-10-14 19:19:05 -0400 (Tue, 14 Oct 2025) EllapsedTime: 515.1 seconds RetCode: 0 Status: OK PackageFile: scGPS_1.23.0.tar.gz PackageFileSize: 2.033 MiB