Package: scFeatures Version: 1.11.0 Command: /home/biocbuild/bbs-3.23-bioc/R/bin/R CMD INSTALL scFeatures StartedAt: 2025-11-07 16:00:32 -0500 (Fri, 07 Nov 2025) EndedAt: 2025-11-07 16:01:44 -0500 (Fri, 07 Nov 2025) EllapsedTime: 72.7 seconds RetCode: 0 Status: OK