Package: scFeatures Version: 1.11.0 Command: /home/biocbuild/bbs-3.23-bioc/R/bin/R CMD check --install=check:scFeatures.install-out.txt --library=/home/biocbuild/bbs-3.23-bioc/R/site-library --timings scFeatures_1.11.0.tar.gz StartedAt: 2025-11-12 03:36:07 -0500 (Wed, 12 Nov 2025) EndedAt: 2025-11-12 03:45:35 -0500 (Wed, 12 Nov 2025) EllapsedTime: 567.6 seconds RetCode: 1 Status: ERROR CheckDir: scFeatures.Rcheck Warnings: NA