Package: scFeatures Version: 1.11.0 Command: /home/biocbuild/bbs-3.23-bioc/R/bin/R CMD build --keep-empty-dirs --no-resave-data scFeatures StartedAt: 2025-11-07 19:48:30 -0500 (Fri, 07 Nov 2025) EndedAt: 2025-11-07 19:50:49 -0500 (Fri, 07 Nov 2025) EllapsedTime: 139.1 seconds RetCode: 0 Status: OK PackageFile: scFeatures_1.11.0.tar.gz PackageFileSize: 2.953 MiB