Package: scDotPlot Version: 1.5.0 Command: /home/biocbuild/bbs-3.23-bioc/R/bin/R CMD INSTALL scDotPlot StartedAt: 2025-11-20 15:54:02 -0500 (Thu, 20 Nov 2025) EndedAt: 2025-11-20 15:54:42 -0500 (Thu, 20 Nov 2025) EllapsedTime: 40.0 seconds RetCode: 0 Status: OK