Package: scDotPlot Version: 1.5.0 Command: /home/biocbuild/bbs-3.23-bioc/R/bin/R CMD check --install=check:scDotPlot.install-out.txt --library=/home/biocbuild/bbs-3.23-bioc/R/site-library --timings scDotPlot_1.5.0.tar.gz StartedAt: 2025-11-21 03:35:22 -0500 (Fri, 21 Nov 2025) EndedAt: 2025-11-21 03:41:39 -0500 (Fri, 21 Nov 2025) EllapsedTime: 376.4 seconds RetCode: 0 Status: OK CheckDir: scDotPlot.Rcheck Warnings: 0