Package: scDotPlot Version: 1.5.0 Command: /home/biocbuild/bbs-3.23-bioc/R/bin/R CMD build --keep-empty-dirs --no-resave-data scDotPlot StartedAt: 2025-11-20 19:50:57 -0500 (Thu, 20 Nov 2025) EndedAt: 2025-11-20 19:52:41 -0500 (Thu, 20 Nov 2025) EllapsedTime: 104.1 seconds RetCode: 0 Status: OK PackageFile: scDotPlot_1.5.0.tar.gz PackageFileSize: 1.874 MiB