Package: scDotPlot Version: 1.3.1 Command: /Library/Frameworks/R.framework/Resources/bin/R CMD check --install=check:scDotPlot.install-out.txt --library=/Library/Frameworks/R.framework/Resources/library --no-vignettes --timings scDotPlot_1.3.1.tar.gz StartedAt: 2025-10-21 21:53:50 -0400 (Tue, 21 Oct 2025) EndedAt: 2025-10-21 21:55:42 -0400 (Tue, 21 Oct 2025) EllapsedTime: 111.3 seconds RetCode: 0 Status: OK CheckDir: scDotPlot.Rcheck Warnings: 0