Package: scDiagnostics Version: 1.3.0 Command: /home/biocbuild/R/R/bin/R CMD INSTALL scDiagnostics StartedAt: 2025-10-13 20:54:13 -0000 (Mon, 13 Oct 2025) EndedAt: 2025-10-13 20:54:47 -0000 (Mon, 13 Oct 2025) EllapsedTime: 34.7 seconds RetCode: 0 Status: OK