Package: scDiagnostics Version: 1.3.0 Command: /home/biocbuild/R/R/bin/R CMD build --keep-empty-dirs --no-resave-data scDiagnostics StartedAt: 2025-10-14 03:20:36 -0000 (Tue, 14 Oct 2025) EndedAt: 2025-10-14 03:26:28 -0000 (Tue, 14 Oct 2025) EllapsedTime: 352.5 seconds RetCode: 0 Status: OK PackageFile: scDiagnostics_1.3.0.tar.gz PackageFileSize: 3.875 MiB